BEGIN:VCALENDAR
VERSION:2.0
PRODID:-//UNO - ECPv6.15.18//NONSGML v1.0//EN
CALSCALE:GREGORIAN
METHOD:PUBLISH
X-WR-CALNAME:UNO
X-ORIGINAL-URL:https://upnoor.org
X-WR-CALDESC:Events for UNO
REFRESH-INTERVAL;VALUE=DURATION:PT1H
X-Robots-Tag:noindex
X-PUBLISHED-TTL:PT1H
BEGIN:VTIMEZONE
TZID:America/New_York
BEGIN:DAYLIGHT
TZOFFSETFROM:-0500
TZOFFSETTO:-0400
TZNAME:EDT
DTSTART:20250309T070000
END:DAYLIGHT
BEGIN:STANDARD
TZOFFSETFROM:-0400
TZOFFSETTO:-0500
TZNAME:EST
DTSTART:20251102T060000
END:STANDARD
BEGIN:DAYLIGHT
TZOFFSETFROM:-0500
TZOFFSETTO:-0400
TZNAME:EDT
DTSTART:20260308T070000
END:DAYLIGHT
BEGIN:STANDARD
TZOFFSETFROM:-0400
TZOFFSETTO:-0500
TZNAME:EST
DTSTART:20261101T060000
END:STANDARD
BEGIN:DAYLIGHT
TZOFFSETFROM:-0500
TZOFFSETTO:-0400
TZNAME:EDT
DTSTART:20270314T070000
END:DAYLIGHT
BEGIN:STANDARD
TZOFFSETFROM:-0400
TZOFFSETTO:-0500
TZNAME:EST
DTSTART:20271107T060000
END:STANDARD
END:VTIMEZONE
BEGIN:VEVENT
DTSTART;TZID=America/New_York:20260829T000000
DTEND;TZID=America/New_York:20260920T235959
DTSTAMP:20260422T075105
CREATED:20260325T005250Z
LAST-MODIFIED:20260325T005250Z
UID:3188-1787961600-1789948799@upnoor.org
SUMMARY:Shaker Forest BYOM\, Canterbury
DESCRIPTION:Please check back for details.
URL:https://upnoor.org/event/shaker-forest-byom-canterbury/
LOCATION:Shaker State Forest\, 43.37904\, -71.45979
END:VEVENT
BEGIN:VEVENT
DTSTART;TZID=America/New_York:20260912T000000
DTEND;TZID=America/New_York:20260913T235959
DTSTAMP:20260422T075105
CREATED:20260325T005401Z
LAST-MODIFIED:20260325T005401Z
UID:3190-1789171200-1789343999@upnoor.org
SUMMARY:CAMPING WEEKEND\, Pawtuckaway SP\, Raymond
DESCRIPTION:Please check back for details.
URL:https://upnoor.org/event/camping-weekend-pawtuckaway-sp-raymond/
LOCATION:Pawtuckaway S.P.\, 198 Mountain Rd.\, Nottingham\, NH\, United States
END:VEVENT
BEGIN:VEVENT
DTSTART;TZID=America/New_York:20261010T000000
DTEND;TZID=America/New_York:20261011T235959
DTSTAMP:20260422T075105
CREATED:20260325T010023Z
LAST-MODIFIED:20260325T010023Z
UID:3192-1791590400-1791763199@upnoor.org
SUMMARY:NRE - Groton Town Forest\, Groton\, MA
DESCRIPTION:Part of an NRE\, jointly organized by UNO & NEOC. \nPlease check back for details.
URL:https://upnoor.org/event/nre-groton-town-forest-groton-ma/
LOCATION:NH
END:VEVENT
BEGIN:VEVENT
DTSTART;TZID=America/New_York:20261025T000000
DTEND;TZID=America/New_York:20261025T235959
DTSTAMP:20260422T075105
CREATED:20260325T010125Z
LAST-MODIFIED:20260325T010125Z
UID:3194-1792886400-1792972799@upnoor.org
SUMMARY:Lee Town Forest\, Lee
DESCRIPTION:Please check back for details.
URL:https://upnoor.org/event/lee-town-forest-lee/
LOCATION:Lee Town Forest\, 23 Mast Rd.\, Lee\, NH
END:VEVENT
BEGIN:VEVENT
DTSTART;TZID=America/New_York:20261107T000000
DTEND;TZID=America/New_York:20261107T235959
DTSTAMP:20260422T075105
CREATED:20260325T010520Z
LAST-MODIFIED:20260325T010520Z
UID:3196-1794009600-1794095999@upnoor.org
SUMMARY:Fox Forest\, Hillsborough
DESCRIPTION:Please check back for details.
URL:https://upnoor.org/event/fox-forest-hillsborough/
LOCATION:NH
END:VEVENT
BEGIN:VEVENT
DTSTART;TZID=America/New_York:20261115T000000
DTEND;TZID=America/New_York:20261115T235959
DTSTAMP:20260422T075105
CREATED:20260325T010626Z
LAST-MODIFIED:20260325T010626Z
UID:3198-1794700800-1794787199@upnoor.org
SUMMARY:Holderness School\, Holderness
DESCRIPTION:Please check back for details.
URL:https://upnoor.org/event/holderness-school-holderness/
LOCATION:NH
END:VEVENT
BEGIN:VEVENT
DTSTART;TZID=America/New_York:20261121T000000
DTEND;TZID=America/New_York:20261121T235959
DTSTAMP:20260422T075105
CREATED:20260325T010718Z
LAST-MODIFIED:20260325T010718Z
UID:3200-1795219200-1795305599@upnoor.org
SUMMARY:Sewall Woods\, Wolfeboro
DESCRIPTION:Please check back for details.
URL:https://upnoor.org/event/sewall-woods-wolfeboro/
LOCATION:Sewall Woods\, Sewall Rd\, Wolfeboro\, 03894\, United States
END:VEVENT
BEGIN:VEVENT
DTSTART;TZID=America/New_York:20261206T000000
DTEND;TZID=America/New_York:20261206T235959
DTSTAMP:20260422T075105
CREATED:20260325T010816Z
LAST-MODIFIED:20260325T010816Z
UID:3202-1796515200-1796601599@upnoor.org
SUMMARY:Beaver Brook\, Hollis
DESCRIPTION:Please check back for details.
URL:https://upnoor.org/event/beaver-brook-hollis/
LOCATION:Beaver Brook – Maple Hill Barn\, 117 Ridge Rd.\, Hollis\, NH
END:VEVENT
BEGIN:VEVENT
DTSTART;TZID=America/New_York:20261213T000000
DTEND;TZID=America/New_York:20261213T235959
DTSTAMP:20260422T075105
CREATED:20260325T010915Z
LAST-MODIFIED:20260325T010915Z
UID:3204-1797120000-1797206399@upnoor.org
SUMMARY:Urban Forestry Center\, Portsmouth
DESCRIPTION:Please check back for details.
URL:https://upnoor.org/event/urban-forestry-center-portsmouth-3/
LOCATION:Urban Forestry Center\, 45 Elwyn Rd.\, Portsmouth\, NH
END:VEVENT
END:VCALENDAR