BEGIN:VCALENDAR
VERSION:2.0
PRODID:-//UNO - ECPv6.15.18//NONSGML v1.0//EN
CALSCALE:GREGORIAN
METHOD:PUBLISH
X-WR-CALNAME:UNO
X-ORIGINAL-URL:https://upnoor.org
X-WR-CALDESC:Events for UNO
REFRESH-INTERVAL;VALUE=DURATION:PT1H
X-Robots-Tag:noindex
X-PUBLISHED-TTL:PT1H
BEGIN:VTIMEZONE
TZID:America/New_York
BEGIN:DAYLIGHT
TZOFFSETFROM:-0500
TZOFFSETTO:-0400
TZNAME:EDT
DTSTART:20170312T070000
END:DAYLIGHT
BEGIN:STANDARD
TZOFFSETFROM:-0400
TZOFFSETTO:-0500
TZNAME:EST
DTSTART:20171105T060000
END:STANDARD
BEGIN:DAYLIGHT
TZOFFSETFROM:-0500
TZOFFSETTO:-0400
TZNAME:EDT
DTSTART:20180311T070000
END:DAYLIGHT
BEGIN:STANDARD
TZOFFSETFROM:-0400
TZOFFSETTO:-0500
TZNAME:EST
DTSTART:20181104T060000
END:STANDARD
BEGIN:DAYLIGHT
TZOFFSETFROM:-0500
TZOFFSETTO:-0400
TZNAME:EDT
DTSTART:20190310T070000
END:DAYLIGHT
BEGIN:STANDARD
TZOFFSETFROM:-0400
TZOFFSETTO:-0500
TZNAME:EST
DTSTART:20191103T060000
END:STANDARD
END:VTIMEZONE
BEGIN:VEVENT
DTSTART;TZID=America/New_York:20180922T100000
DTEND;TZID=America/New_York:20180922T140000
DTSTAMP:20260422T212104
CREATED:20180330T214958Z
LAST-MODIFIED:20180918T165143Z
UID:463-1537610400-1537624800@upnoor.org
SUMMARY:Weeks Woods\, Gilford
DESCRIPTION:Registration:\n		10:00 AM – 2:00 PM\n	\n	\n		Staggered Starts:\n		10:00 AM – 2:00 PM\n	\n	\n		Courses Close:\n		3:30 PM — Check out at the Finish table by this time.\n	\n	\n		Courses:\n		\n			W			Y			O			Br			G			R			Trail Runner Special		\n	\n	\n		Comments:\n		\n“Trail Runner Special” is a marked trail route\, 6.75 km.\n		\n	\n	\n		Directions:\n		\nFrom the west (Laconia)\, take Rt. 93 North to Rt. 3 (Laconia Bypass). Take the exit for Rt. 11A (Gilford Avenue) and go 2.4 miles east to the event. From the east (Alton)\, Take Route 11 to Rt. 11A. Once you pass the entrance to Gunstock Mountain\, go another 3.1 miles to the event. \nParking is across the street from the event at the Gilford Town Hall and Gilford Public Works Building.
URL:https://upnoor.org/event/weeks-woods-gilford/
LOCATION:Weeks Woods\, 75 Cherry Valley Rd.\, Gilford\, NH\, United States
ORGANIZER;CN="Jim Arsenault":MAILTO:jearsenaul@aol.com
END:VEVENT
BEGIN:VEVENT
DTSTART;VALUE=DATE:20180908
DTEND;VALUE=DATE:20180910
DTSTAMP:20260422T212104
CREATED:20180402T171548Z
LAST-MODIFIED:20180418T050039Z
UID:461-1536364800-1536537599@upnoor.org
SUMMARY:Camping Weekend\, Pawtuckaway S.P.
DESCRIPTION:
URL:https://upnoor.org/event/camping-weekend-pawtuckaway-s-p/
LOCATION:Pawtuckaway S.P.\, 198 Mountain Rd.\, Nottingham\, NH\, United States
ORGANIZER;CN="Pete Bundschuh":MAILTO:unofam@aol.com
END:VEVENT
BEGIN:VEVENT
DTSTART;VALUE=DATE:20180624
DTEND;VALUE=DATE:20180625
DTSTAMP:20260422T212104
CREATED:20180330T213928Z
LAST-MODIFIED:20180422T192346Z
UID:458-1529798400-1529884799@upnoor.org
SUMMARY:Ahern S.P.\, Laconia
DESCRIPTION:
URL:https://upnoor.org/event/ahern-s-p-laconia/
LOCATION:Ahern SP\, Ahern Park Rd.\, Laconia\, NH\, 03246\, United States
END:VEVENT
BEGIN:VEVENT
DTSTART;VALUE=DATE:20180609
DTEND;VALUE=DATE:20180610
DTSTAMP:20260422T212104
CREATED:20180330T213330Z
LAST-MODIFIED:20180422T192311Z
UID:455-1528502400-1528588799@upnoor.org
SUMMARY:Urban Forestry Center\, Portsmouth
DESCRIPTION:
URL:https://upnoor.org/event/urban-forestry-center-portsmouth/
LOCATION:Urban Forestry Center\, 45 Elwyn Rd.\, Portsmouth\, NH
END:VEVENT
BEGIN:VEVENT
DTSTART;VALUE=DATE:20180506
DTEND;VALUE=DATE:20180507
DTSTAMP:20260422T212104
CREATED:20180330T205851Z
LAST-MODIFIED:20180426T015944Z
UID:443-1525564800-1525651199@upnoor.org
SUMMARY:College Woods\, Durham
DESCRIPTION:Staggered Starts:\n10:00 AM – Noon\n\n\nCourses Close:\n2:30 PM — Check out at the Finish table by this time.\n\n\nCourses:\nW Y O Br G R Long Yellow\n\n\nComments:\nInstruction: Intermediate at 10:15; Beginner at 10:45\n\n\nDirections:\n\nLocation: UNH Boulder Field – Google Map (GPS: 43.140766\, -70.943534) \nDirections: From Route 4 in Durham\, take the exit for Route 155A. Follow signs for the Whittemore Center towards Durham for one mile. Do not follow Route 155A.\nAt the traffic circle\, take the first right towards the tennis courts and fields. Take the first immediate right\, follow orienteering signs. Event location is in front of you.
URL:https://upnoor.org/event/college-woods-durham/
LOCATION:UNH Boulder Field\, Main St. and North Dr.\, Durham\, NH\, United States
END:VEVENT
END:VCALENDAR