BEGIN:VCALENDAR
VERSION:2.0
PRODID:-//UNO - ECPv6.15.18//NONSGML v1.0//EN
CALSCALE:GREGORIAN
METHOD:PUBLISH
X-ORIGINAL-URL:https://upnoor.org
X-WR-CALDESC:Events for UNO
REFRESH-INTERVAL;VALUE=DURATION:PT1H
X-Robots-Tag:noindex
X-PUBLISHED-TTL:PT1H
BEGIN:VTIMEZONE
TZID:America/New_York
BEGIN:DAYLIGHT
TZOFFSETFROM:-0500
TZOFFSETTO:-0400
TZNAME:EDT
DTSTART:20230312T070000
END:DAYLIGHT
BEGIN:STANDARD
TZOFFSETFROM:-0400
TZOFFSETTO:-0500
TZNAME:EST
DTSTART:20231105T060000
END:STANDARD
BEGIN:DAYLIGHT
TZOFFSETFROM:-0500
TZOFFSETTO:-0400
TZNAME:EDT
DTSTART:20240310T070000
END:DAYLIGHT
BEGIN:STANDARD
TZOFFSETFROM:-0400
TZOFFSETTO:-0500
TZNAME:EST
DTSTART:20241103T060000
END:STANDARD
BEGIN:DAYLIGHT
TZOFFSETFROM:-0500
TZOFFSETTO:-0400
TZNAME:EDT
DTSTART:20250309T070000
END:DAYLIGHT
BEGIN:STANDARD
TZOFFSETFROM:-0400
TZOFFSETTO:-0500
TZNAME:EST
DTSTART:20251102T060000
END:STANDARD
END:VTIMEZONE
BEGIN:VEVENT
DTSTART;TZID=America/New_York:20240511T000000
DTEND;TZID=America/New_York:20240602T235959
DTSTAMP:20260422T232303
CREATED:20240510T013009Z
LAST-MODIFIED:20240603T014828Z
UID:2488-1715385600-1717372799@upnoor.org
SUMMARY:Gilford BYOM
DESCRIPTION:UNO is offering 5 options for Bring-Your-Own-Map training in the Lakes Region of NH.\nCourses will be available until June 2 for anyone who is not able to make it in time as part of a pre-Billygoat warmup. \nScore-O is a close-in 12-control map at 1:7500 suitable for beginners.\nThe Orange and Green Middle courses are also at 1:7500 scale.\nGreen Classic and Red courses are at 1:10\,000. \nCourses are free for all UNO members\, $5 for non-members.\nNote to non-members: After payment\, download all the maps (so you can do another course without paying again!). \n\nThis event has passed. Map downloads are disabled. \n\nPublic parking is available at the Gilford School Meadows Property at 263 Intervale Road (approx.)\, just north of the Beans and Greens farm stand. Best spot to park is by the rear large white barn. There’s a trail sign for the Carye Family Forest trails. Walk to start is about 500m – there may be wet spots along this.\nStart/finish is as marked on each map – this location is NOT streamered.\nAll controls in the woods are marked with blue and yellow streamers\, with the control number written on them. \nYou can self-time\, or you can use the UsynligO smartphone app – available for both IPhone and Android users.\nOnce you have UsynligO set up on your phone\, go to https://usynligo.no/allracesmap – Use the green dot just to the east of the Laconia Airport. \nAdditionally\, the courses are setup in LiveLox (password to view/upload: UNO-BYOM-Carye24). Upload your track(s) before 7 PM\, June 2.
URL:https://upnoor.org/event/gilford-byom/
LOCATION:Carye Woods\, 263 Intervale Rd.\, Gilford\, NH\, United States
ORGANIZER;CN="Jim Arsenault":MAILTO:jearsenaul@aol.com
END:VEVENT
BEGIN:VEVENT
DTSTART;TZID=America/New_York:20240601T100000
DTEND;TZID=America/New_York:20240601T123000
DTSTAMP:20260422T232303
CREATED:20240123T012348Z
LAST-MODIFIED:20240601T191633Z
UID:2377-1717236000-1717245000@upnoor.org
SUMMARY:Bear Brook SP (Allenstown)
DESCRIPTION:Registration:\n10:00 AM – 12:30 PM\n\n\nStaggered Starts:\n10:00 AM – 12:30 PM\n\n\nCourses Close:\n2:30 PM — Check out at the Finish table by this time.\n\n\nCourses:\nW Y O Br G R Bl Short White\n\n\nComments:\nBeginner instruction available.\n\n\nDirections:\nEnter Bear Brook State Park from Deerfield Rd. at the campground sign (don’t stop at the beach area). Pay per-person park fee at booth (age 1-5 free\, age 6-11 $2\, age 12+ $4\, NH resident age 65+ free). Shortly past the booth\, turn right into the hike/bike/ski parking area.\nApproximate address: 99 Podunk Rd\, Allenstown\, NH; (GPS coordinates 43.144\, -71.357)
URL:https://upnoor.org/event/bear-brook-sp-allenstown/
LOCATION:Bear Brook SP\, 99 Podunk Rd.\, Allenstown\, NH\, United States
ORGANIZER;CN="Steve Tarry":MAILTO:sgtarry@gmail.com
END:VEVENT
END:VCALENDAR