BEGIN:VCALENDAR
VERSION:2.0
PRODID:-//UNO - ECPv6.15.18//NONSGML v1.0//EN
CALSCALE:GREGORIAN
METHOD:PUBLISH
X-WR-CALNAME:UNO
X-ORIGINAL-URL:https://upnoor.org
X-WR-CALDESC:Events for UNO
REFRESH-INTERVAL;VALUE=DURATION:PT1H
X-Robots-Tag:noindex
X-PUBLISHED-TTL:PT1H
BEGIN:VTIMEZONE
TZID:America/New_York
BEGIN:DAYLIGHT
TZOFFSETFROM:-0500
TZOFFSETTO:-0400
TZNAME:EDT
DTSTART:20230312T070000
END:DAYLIGHT
BEGIN:STANDARD
TZOFFSETFROM:-0400
TZOFFSETTO:-0500
TZNAME:EST
DTSTART:20231105T060000
END:STANDARD
BEGIN:DAYLIGHT
TZOFFSETFROM:-0500
TZOFFSETTO:-0400
TZNAME:EDT
DTSTART:20240310T070000
END:DAYLIGHT
BEGIN:STANDARD
TZOFFSETFROM:-0400
TZOFFSETTO:-0500
TZNAME:EST
DTSTART:20241103T060000
END:STANDARD
BEGIN:DAYLIGHT
TZOFFSETFROM:-0500
TZOFFSETTO:-0400
TZNAME:EDT
DTSTART:20250309T070000
END:DAYLIGHT
BEGIN:STANDARD
TZOFFSETFROM:-0400
TZOFFSETTO:-0500
TZNAME:EST
DTSTART:20251102T060000
END:STANDARD
END:VTIMEZONE
BEGIN:VEVENT
DTSTART;TZID=America/New_York:20241012T100000
DTEND;TZID=America/New_York:20241012T130000
DTSTAMP:20260422T165124
CREATED:20240924T001651Z
LAST-MODIFIED:20240924T013722Z
UID:2643-1728727200-1728738000@upnoor.org
SUMMARY:Ahern S.P.\, Laconia\, NH
DESCRIPTION:Registration:\n10:00 AM – 1:00 PM\n\n\nStaggered Starts:\n10:00 AM – 1:00 PM\n\n\nCourses Close:\n3:00 PM — Check out at the Finish table by this time.\n\n\nMap:\n1:5000 or 1:7500 scale\, 3m contour interval\n\n\nCourses:\n\nW Y O Motala \nMotala is your choice of 1\, 2\, or 3 advanced loops. \n\n\n\nComments:\n\nBeginners instruction will be available throughout the registration window. Loaner compasses and loaner dibblers (electronic punching devices) will also be available. \nScout troops and other groups: Please contact Paul Regan\, the event director\, in advance so we can send you our waiver and have your registration materials ready onsite. \nEntry Fees are described in the FAQ. \nCAN YOU HELP AT THE EVENT? It would be greatly appreciated and volunteers will have the opportunity of orienteering\, too. If you would like to help at the meet please contact Paul Regan. \n\n\n\nDirections:\nFrom Route 3 in Laconia…At the intersection of Routes 3 and 106 turn north on Route 106 (South Main St.). Travel 2.5 miles and then turn left on Right Way Path followed by an immediate left turn onto Ahern Park Road. Follow orienteering signs to the parking area(s).
URL:https://upnoor.org/event/ahern-s-p-laconia-nh/
LOCATION:Ahern SP\, Ahern Park Rd.\, Laconia\, NH\, 03246\, United States
END:VEVENT
END:VCALENDAR