BEGIN:VCALENDAR
VERSION:2.0
PRODID:-//UNO - ECPv6.15.18//NONSGML v1.0//EN
CALSCALE:GREGORIAN
METHOD:PUBLISH
X-WR-CALNAME:UNO
X-ORIGINAL-URL:https://upnoor.org
X-WR-CALDESC:Events for UNO
REFRESH-INTERVAL;VALUE=DURATION:PT1H
X-Robots-Tag:noindex
X-PUBLISHED-TTL:PT1H
BEGIN:VTIMEZONE
TZID:America/New_York
BEGIN:DAYLIGHT
TZOFFSETFROM:-0500
TZOFFSETTO:-0400
TZNAME:EDT
DTSTART:20230312T070000
END:DAYLIGHT
BEGIN:STANDARD
TZOFFSETFROM:-0400
TZOFFSETTO:-0500
TZNAME:EST
DTSTART:20231105T060000
END:STANDARD
BEGIN:DAYLIGHT
TZOFFSETFROM:-0500
TZOFFSETTO:-0400
TZNAME:EDT
DTSTART:20240310T070000
END:DAYLIGHT
BEGIN:STANDARD
TZOFFSETFROM:-0400
TZOFFSETTO:-0500
TZNAME:EST
DTSTART:20241103T060000
END:STANDARD
BEGIN:DAYLIGHT
TZOFFSETFROM:-0500
TZOFFSETTO:-0400
TZNAME:EDT
DTSTART:20250309T070000
END:DAYLIGHT
BEGIN:STANDARD
TZOFFSETFROM:-0400
TZOFFSETTO:-0500
TZNAME:EST
DTSTART:20251102T060000
END:STANDARD
END:VTIMEZONE
BEGIN:VEVENT
DTSTART;TZID=America/New_York:20241102T100000
DTEND;TZID=America/New_York:20241102T123000
DTSTAMP:20260422T151350
CREATED:20240123T013254Z
LAST-MODIFIED:20241029T004140Z
UID:2386-1730541600-1730550600@upnoor.org
SUMMARY:Harris Center (Hancock)
DESCRIPTION:Registration:\n10:00 AM – 12:30 PM\n\n\nStaggered Starts:\n10:00 AM – 12:30 PM\n\n\nCourses Close:\n2:30 PM — Check out at the Finish table by this time.\n\n\nCourses:\nW Y O Br G R Bl\n\n\nDirections:\nSee the Harris Center website for accurate directions.
URL:https://upnoor.org/event/harris-center-hancock-2/
LOCATION:Harris Center\, Hancock NH\, 83 Kings Hwy\, Hancock\, NH
ORGANIZER;CN="Jim Arsenault":MAILTO:jearsenaul@aol.com
END:VEVENT
BEGIN:VEVENT
DTSTART;TZID=America/New_York:20241124T100000
DTEND;TZID=America/New_York:20241124T123000
DTSTAMP:20260422T151350
CREATED:20240123T013417Z
LAST-MODIFIED:20241028T182849Z
UID:2388-1732442400-1732451400@upnoor.org
SUMMARY:Beaver Brook (and Club Meeting)
DESCRIPTION:Orienteering\n\n\nBeaver Brook\nMaple Hill Farm\, Hollis\, NH\n\n\nRegistration:\n10:00 AM – 12:30 PM\n\n\nStaggered Starts:\n10:00 AM – 12:30 PM\n\n\nCourses Close:\n2:30 PM — Check out at the Finish table by this time.\n\n\nCourses:\nW Y O Br G R Short White Tan\n\n\nDirections:\nFrom Route 3 exit 6 take Route 130 West to Route 122 in Hollis.\nTurn Left (South) on Route 122. In one mile turn Right on Ridge Road. Watch for O-signs.\n\n\n\nAnnual Club Meeting\nClub meeting to follow the event. All welcome!\n1:30-3:30 PM in the Spear Room at Maple Hill Farm. \nContact Jim Arsenault if you want topics added or have any questions. \nTopics to include: \n\nCamping Weekend: Course setters needed.\nDo we want to have a one-day National Orienteering Event with Camping Weekend?\nNational Ranking Event: When do we next want to take this on?\nSchedule: We continue to need people to step up to put on events.\nMapping Updates\nTreasurer’s Report\nElection – Looking for folks willing to take on some key roles within the club.\n\n 
URL:https://upnoor.org/event/beaver-brook/
LOCATION:Beaver Brook – Maple Hill Barn\, 117 Ridge Rd.\, Hollis\, NH
ORGANIZER;CN="Jim Arsenault":MAILTO:jearsenaul@aol.com
END:VEVENT
END:VCALENDAR