BEGIN:VCALENDAR
VERSION:2.0
PRODID:-//UNO - ECPv6.15.18//NONSGML v1.0//EN
CALSCALE:GREGORIAN
METHOD:PUBLISH
X-WR-CALNAME:UNO
X-ORIGINAL-URL:https://upnoor.org
X-WR-CALDESC:Events for UNO
REFRESH-INTERVAL;VALUE=DURATION:PT1H
X-Robots-Tag:noindex
X-PUBLISHED-TTL:PT1H
BEGIN:VTIMEZONE
TZID:America/New_York
BEGIN:DAYLIGHT
TZOFFSETFROM:-0500
TZOFFSETTO:-0400
TZNAME:EDT
DTSTART:20240310T070000
END:DAYLIGHT
BEGIN:STANDARD
TZOFFSETFROM:-0400
TZOFFSETTO:-0500
TZNAME:EST
DTSTART:20241103T060000
END:STANDARD
BEGIN:DAYLIGHT
TZOFFSETFROM:-0500
TZOFFSETTO:-0400
TZNAME:EDT
DTSTART:20250309T070000
END:DAYLIGHT
BEGIN:STANDARD
TZOFFSETFROM:-0400
TZOFFSETTO:-0500
TZNAME:EST
DTSTART:20251102T060000
END:STANDARD
BEGIN:DAYLIGHT
TZOFFSETFROM:-0500
TZOFFSETTO:-0400
TZNAME:EDT
DTSTART:20260308T070000
END:DAYLIGHT
BEGIN:STANDARD
TZOFFSETFROM:-0400
TZOFFSETTO:-0500
TZNAME:EST
DTSTART:20261101T060000
END:STANDARD
END:VTIMEZONE
BEGIN:VEVENT
DTSTART;TZID=America/New_York:20250223T100000
DTEND;TZID=America/New_York:20250223T130000
DTSTAMP:20260422T095210
CREATED:20250213T230634Z
LAST-MODIFIED:20250214T002411Z
UID:2746-1740304800-1740315600@upnoor.org
SUMMARY:Ski-O at the Holderness School - phenomenal trail network
DESCRIPTION:Registration:\n10:00 AM – 1:00 PM\n\n\nStaggered Starts:\n10:00 AM – 1:00 PM\n\n\nComments:\n\nMembers and friends of UNO – Ski Orienteering at the Holderness School XC trails in Holderness NH on Sunday February 23. Fantastic trail network and good snow cover (as of the day this was written…) \nFour point-to-point courses and a Score-O will be offered: \n\nCourse 1 – Beginner\, ~2.9 km shortest skiable distance (SSD)\nCourse 2 – Intermediate\, ~ 5.6 km SSD\nCourse 3 – Advanced\, ~ 7.9 km SSD\nCourse 4 – Advanced\, ~ 10.1 SSD\n\nDistances subject to change. Snowshoers welcome. Mostly wide groomed trails\, some narrow trails for the longer courses. \n2-hour time limit\, 1-hour time limit for Score-O. \nPre-registration requested.\nBut\, if you forget to pre-register\, come anyways!! Payment at event is acceptable – cash or check payable to ‘Up North Orienteers.’ \nRain date March 1. \nRace fee (event fee) includes Holderness Nordic Trail fee. \nUNO Members – Haven’t renewed yet for 2025? Renew now – Join UNO. Then use Coupon Code ‘UNO Member’ (born 2006 or earlier) or ‘UNOJR’ (born 2007 or later). \n\n\n\nDirections:\n3 minutes off I-93\, Exit 25 (NH-175 Holderness Rd/Plymouth).\nLeft and up the hill at end of exit ramp\, then 2nd left (Mt. Prospect Rd.).\nParking is about 500 feet up the road\, on your left.
URL:https://upnoor.org/event/ski-o-at-the-holderness-school-phenomenal-trail-network/
LOCATION:Holderness School Ice Rink\, 27 Mount Prospect Rd.\, Holderness\, NH
ORGANIZER;CN="Jim Arsenault":MAILTO:jearsenaul@aol.com
END:VEVENT
END:VCALENDAR