BEGIN:VCALENDAR
VERSION:2.0
PRODID:-//UNO - ECPv6.15.18//NONSGML v1.0//EN
CALSCALE:GREGORIAN
METHOD:PUBLISH
X-ORIGINAL-URL:https://upnoor.org
X-WR-CALDESC:Events for UNO
REFRESH-INTERVAL;VALUE=DURATION:PT1H
X-Robots-Tag:noindex
X-PUBLISHED-TTL:PT1H
BEGIN:VTIMEZONE
TZID:America/New_York
BEGIN:DAYLIGHT
TZOFFSETFROM:-0500
TZOFFSETTO:-0400
TZNAME:EDT
DTSTART:20240310T070000
END:DAYLIGHT
BEGIN:STANDARD
TZOFFSETFROM:-0400
TZOFFSETTO:-0500
TZNAME:EST
DTSTART:20241103T060000
END:STANDARD
BEGIN:DAYLIGHT
TZOFFSETFROM:-0500
TZOFFSETTO:-0400
TZNAME:EDT
DTSTART:20250309T070000
END:DAYLIGHT
BEGIN:STANDARD
TZOFFSETFROM:-0400
TZOFFSETTO:-0500
TZNAME:EST
DTSTART:20251102T060000
END:STANDARD
BEGIN:DAYLIGHT
TZOFFSETFROM:-0500
TZOFFSETTO:-0400
TZNAME:EDT
DTSTART:20260308T070000
END:DAYLIGHT
BEGIN:STANDARD
TZOFFSETFROM:-0400
TZOFFSETTO:-0500
TZNAME:EST
DTSTART:20261101T060000
END:STANDARD
END:VTIMEZONE
BEGIN:VEVENT
DTSTART;TZID=America/New_York:20250419T100000
DTEND;TZID=America/New_York:20250419T123000
DTSTAMP:20260422T063511
CREATED:20241125T032800Z
LAST-MODIFIED:20250323T014437Z
UID:2717-1745056800-1745065800@upnoor.org
SUMMARY:Celebration of Life for Pete Bundschuh
DESCRIPTION:To celebrate Pete’s love of the outdoors\, we will be hosting a “score-o” orienteering event\, with instruction available for anyone who would like to learn Pete’s favorite sport. \nStaggered starts from 10:00 AM\nFinish by 12:30 PM\n \nThis is a drop-in event\, with the opportunity to gather at Maple Hill Farm at 12:30 PM for a few speeches and a chance to remember Pete together.\nWe also will be unveiling a new geocache in Pete’s memory and have other activities in the barn.\n \nLight lunch and refreshments will be offered. Gluten-free and vegetarian options will be available. This is a dry event with no alcohol. The dress code is casual and outdoorsy\, and we  welcome thematic Pete-related attire (orienteering\, Dartmouth\, NEHSA\, etc.). We also suggest packing warm layers and sturdy shoes/boots in case of rain/mud. The Maple Hill Farm barn is unheated\, but there are indoor restrooms. This event is open to all in the local community; no RSVP is required.
URL:https://upnoor.org/event/celebration-of-life-for-pete-bundschuh/
LOCATION:Beaver Brook – Maple Hill Barn\, 117 Ridge Road\, Hollis\, NH
ORGANIZER;CN="Lex Bundschuh":MAILTO:unofam@aol.com
END:VEVENT
BEGIN:VEVENT
DTSTART;TZID=America/New_York:20250427T100000
DTEND;TZID=America/New_York:20250427T120000
DTSTAMP:20260422T063511
CREATED:20250327T052247Z
LAST-MODIFIED:20250418T171100Z
UID:2777-1745748000-1745755200@upnoor.org
SUMMARY:Lee Town Forest
DESCRIPTION:Registration:\n10:00 AM – Noon\n\n\nStaggered Starts:\n10:00 AM – Noon\n\n\nCourses Close:\n2:30 PM — Check out at the Finish table by this time.\n\n\nCourses:\nW Y O Br G\n\n\nMap:\n1:7500\n\n\nComments:\nNewcomers\, families\, and groups are welcome! Beginner instruction available 10 AM-11 AM.\nNew map by Jim Arseneault! \n\nEntry Fees (per course): \n\nFree for UNO club members;\n$10 for adults or family groups\,\n$5 for juniors and Lee residents\nAdditional maps: $2\nRental Compasses and electronic punch sticks: free with refundable deposit.\n\n\n\n\nDirections:\nGo to “downtown” Lee on NH Route 155.\nParking in front of Mastway Elementary School (Google coordinates: 43.1255\, -71.0080).\nRegistration is in the back near the playgrounds.
URL:https://upnoor.org/event/lee-town-forest-2/
LOCATION:Lee Town Forest\, 23 Mast Rd.\, Lee\, NH
ORGANIZER;CN="Ernst Linder":MAILTO:elinder@unh.edu
END:VEVENT
END:VCALENDAR